BEGIN:VCALENDAR
VERSION:2.0
PRODID:Passeio ao Parque das Nações
X-WR-CALNAME:Passeio ao Parque das Nações
X-WR-TIMEZONE:Europe/Lisbon
X-PUBLISHED-TTL:P1W
BEGIN:VTIMEZONE
TZID:Europe/Lisbon
X-LIC-LOCATION:Europe/Lisbon
END:VTIMEZONE
BEGIN:VEVENT
UID:69e803daeda10
DTSTART;VALUE=DATE:20231125
SEQUENCE:0
TRANSP:OPAQUE
DTEND;VALUE=DATE:20231126
SUMMARY:Passeio ao Parque das Nações
CLASS:PUBLIC
DESCRIPTION:Passeio ao Parque das Nações 25-11-2023
X-MICROSOFT-CDO-ALLDAYEVENT:TRUE
DTSTAMP:20260421T231018Z
END:VEVENT
END:VCALENDAR