BEGIN:VCALENDAR
VERSION:2.0
PRODID:Convite para homenagem
X-WR-CALNAME:Convite para homenagem
X-WR-TIMEZONE:Europe/Lisbon
X-PUBLISHED-TTL:P1W
BEGIN:VTIMEZONE
TZID:Europe/Lisbon
X-LIC-LOCATION:Europe/Lisbon
END:VTIMEZONE
BEGIN:VEVENT
UID:69e803a2907a6
DTSTART;VALUE=DATE:20230815
SEQUENCE:0
TRANSP:OPAQUE
DTEND;VALUE=DATE:20230816
SUMMARY:Convite para homenagem
CLASS:PUBLIC
DESCRIPTION:Amigos\,Em nome do executivo da UF de Achete\, Azoia de Baixo e
  Póvoa de Santarém\, estão todos convidados a aparecer na Póvoa de San
 tarém\, esta 3.ª feira dia 15-08-2023\, depois da Missa e da Procissão 
 da Padroeira Nossa Senhora da Luz\, no Largo dos Combatentes do Ultramar\,
  junto à paragem do cruzamento central da N3\, onde se está a construir 
 o bunker para o multibanco. Para em conjunto prestarmos homenagem aos home
 ns da Póvoa que levaram a vida a construir estradas de norte a sul do pa
 ís ... homenagem justa aos que ainda estão connosco e aos que infelizmen
 te já partiram\, mas que as suas famílias ainda os representam.Vamos lá
 A Presidente da UFGuida Botequim
X-MICROSOFT-CDO-ALLDAYEVENT:TRUE
DTSTAMP:20260421T230922Z
END:VEVENT
END:VCALENDAR